BEGIN:VCALENDAR
VERSION:2.0
PRODID:-//Helmuts-Fahrrad-Seiten.de - ECPv5.14.1//NONSGML v1.0//EN
CALSCALE:GREGORIAN
METHOD:PUBLISH
X-WR-CALNAME:Helmuts-Fahrrad-Seiten.de
X-ORIGINAL-URL:https://helmuts-fahrrad-seiten.de
X-WR-CALDESC:Veranstaltungen für Helmuts-Fahrrad-Seiten.de
BEGIN:VTIMEZONE
TZID:Europe/Berlin
BEGIN:DAYLIGHT
TZOFFSETFROM:+0100
TZOFFSETTO:+0200
TZNAME:CEST
DTSTART:20220327T010000
END:DAYLIGHT
BEGIN:STANDARD
TZOFFSETFROM:+0200
TZOFFSETTO:+0100
TZNAME:CET
DTSTART:20221030T010000
END:STANDARD
END:VTIMEZONE
BEGIN:VEVENT
DTSTART;TZID=Europe/Berlin:20220606T080000
DTEND;TZID=Europe/Berlin:20220606T090000
DTSTAMP:20260423T201530
CREATED:20220227T180009Z
LAST-MODIFIED:20220227T180009Z
UID:67644-1654502400-1654506000@helmuts-fahrrad-seiten.de
SUMMARY:Weser-Hunte-Radmarathon\, Syke-Barrien und Nienburg
DESCRIPTION:Der RSV Bruchhausen-Vilsen und RSC Nienburg laden ein zum Weser-Hunte-Radmarathon über 210 km. Gestartet werden kann in Syke-Barrien oder Nienburg/Weser.
URL:https://helmuts-fahrrad-seiten.de/event/weser-hunte-radmarathon-syke-barrien-und-nienburg/
CATEGORIES:Radmarathon,Straßenradsport
END:VEVENT
END:VCALENDAR