BEGIN:VCALENDAR
VERSION:2.0
PRODID:-//Helmuts-Fahrrad-Seiten.de - ECPv5.14.1//NONSGML v1.0//EN
CALSCALE:GREGORIAN
METHOD:PUBLISH
X-WR-CALNAME:Helmuts-Fahrrad-Seiten.de
X-ORIGINAL-URL:https://helmuts-fahrrad-seiten.de
X-WR-CALDESC:Veranstaltungen für Helmuts-Fahrrad-Seiten.de
BEGIN:VTIMEZONE
TZID:Europe/Berlin
BEGIN:DAYLIGHT
TZOFFSETFROM:+0100
TZOFFSETTO:+0200
TZNAME:CEST
DTSTART:20230326T010000
END:DAYLIGHT
BEGIN:STANDARD
TZOFFSETFROM:+0200
TZOFFSETTO:+0100
TZNAME:CET
DTSTART:20231029T010000
END:STANDARD
END:VTIMEZONE
BEGIN:VEVENT
DTSTART;TZID=Europe/Berlin:20230813T090000
DTEND;TZID=Europe/Berlin:20230813T170000
DTSTAMP:20260423T133831
CREATED:20230114T134154Z
LAST-MODIFIED:20230420T192106Z
UID:76122-1691917200-1691946000@helmuts-fahrrad-seiten.de
SUMMARY:Specialized-Cup\, Bad Segeberg
DESCRIPTION:Den Abschluß der S-Cup-Serie bildet das Rundstreckenrennen in Bad Segeberg.
URL:https://helmuts-fahrrad-seiten.de/event/specialized-cup-6/
LOCATION:Birkenring\, Bad Segeberg\, Birkenring\, Bad Segeberg\, 23795
CATEGORIES:Rennrad-Rennen,Straßenradsport
END:VEVENT
END:VCALENDAR