BEGIN:VCALENDAR
VERSION:2.0
PRODID:-//Helmuts-Fahrrad-Seiten.de - ECPv5.14.1//NONSGML v1.0//EN
CALSCALE:GREGORIAN
METHOD:PUBLISH
X-WR-CALNAME:Helmuts-Fahrrad-Seiten.de
X-ORIGINAL-URL:https://helmuts-fahrrad-seiten.de
X-WR-CALDESC:Veranstaltungen für Helmuts-Fahrrad-Seiten.de
BEGIN:VTIMEZONE
TZID:Europe/Berlin
BEGIN:DAYLIGHT
TZOFFSETFROM:+0100
TZOFFSETTO:+0200
TZNAME:CEST
DTSTART:20240331T010000
END:DAYLIGHT
BEGIN:STANDARD
TZOFFSETFROM:+0200
TZOFFSETTO:+0100
TZNAME:CET
DTSTART:20241027T010000
END:STANDARD
END:VTIMEZONE
BEGIN:VEVENT
DTSTART;TZID=Europe/Berlin:20240501T100000
DTEND;TZID=Europe/Berlin:20240501T100000
DTSTAMP:20260423T152453
CREATED:20240317T092119Z
LAST-MODIFIED:20240317T092119Z
UID:90377-1714557600-1714557600@helmuts-fahrrad-seiten.de
SUMMARY:RTF "Laager-Recknitz-Tour"\, Laage
DESCRIPTION:Der RK Laage lädt zu seiner Laager-Recknitz-Tour über 25 km\, 41 km\, 60 km und 100 km ein.
URL:https://helmuts-fahrrad-seiten.de/event/rtf-laager-recknitz-tour-laage/
LOCATION:Sportplatz Laage\, Am Sportplatz\, Laage\, 18299
CATEGORIES:RTF,Straßenradsport
END:VEVENT
END:VCALENDAR