BEGIN:VCALENDAR
VERSION:2.0
PRODID:-//Helmuts-Fahrrad-Seiten.de - ECPv5.14.1//NONSGML v1.0//EN
CALSCALE:GREGORIAN
METHOD:PUBLISH
X-WR-CALNAME:Helmuts-Fahrrad-Seiten.de
X-ORIGINAL-URL:https://helmuts-fahrrad-seiten.de
X-WR-CALDESC:Veranstaltungen für Helmuts-Fahrrad-Seiten.de
BEGIN:VTIMEZONE
TZID:Europe/Berlin
BEGIN:DAYLIGHT
TZOFFSETFROM:+0100
TZOFFSETTO:+0200
TZNAME:CEST
DTSTART:20240331T010000
END:DAYLIGHT
BEGIN:STANDARD
TZOFFSETFROM:+0200
TZOFFSETTO:+0100
TZNAME:CET
DTSTART:20241027T010000
END:STANDARD
END:VTIMEZONE
BEGIN:VEVENT
DTSTART;TZID=Europe/Berlin:20240728T080000
DTEND;TZID=Europe/Berlin:20240728T100000
DTSTAMP:20260423T102351
CREATED:20240419T103408Z
LAST-MODIFIED:20240419T103408Z
UID:90709-1722153600-1722160800@helmuts-fahrrad-seiten.de
SUMMARY:RTF "Bädertour"\, Bad Rothenfelde-Aschendorf
DESCRIPTION:Die RTF „Bädertour“ des RV Teutonia 07 Aschendorf führt über 45 km\, 75 km\, 112 km und 152 km.
URL:https://helmuts-fahrrad-seiten.de/event/rtf-baedertour-bad-rothenfelde-aschendorf/
LOCATION:Mehrzweckhalle Bad Rothenfelde Aschendorf\, Versmolder Str. 20a\, Bad Rothenfelde-Aschendorf\, 49214
CATEGORIES:RTF,Straßenradsport
END:VEVENT
END:VCALENDAR