BEGIN:VCALENDAR
VERSION:2.0
PRODID:-//Helmuts-Fahrrad-Seiten.de - ECPv5.14.1//NONSGML v1.0//EN
CALSCALE:GREGORIAN
METHOD:PUBLISH
X-WR-CALNAME:Helmuts-Fahrrad-Seiten.de
X-ORIGINAL-URL:https://helmuts-fahrrad-seiten.de
X-WR-CALDESC:Veranstaltungen für Helmuts-Fahrrad-Seiten.de
BEGIN:VTIMEZONE
TZID:Europe/Berlin
BEGIN:DAYLIGHT
TZOFFSETFROM:+0100
TZOFFSETTO:+0200
TZNAME:CEST
DTSTART:20170326T010000
END:DAYLIGHT
BEGIN:STANDARD
TZOFFSETFROM:+0200
TZOFFSETTO:+0100
TZNAME:CET
DTSTART:20171029T010000
END:STANDARD
END:VTIMEZONE
BEGIN:VEVENT
DTSTART;TZID=Europe/Berlin:20170611T080000
DTEND;TZID=Europe/Berlin:20170611T093000
DTSTAMP:20260424T085612
CREATED:20170127T153815Z
LAST-MODIFIED:20170127T153815Z
UID:8307-1497168000-1497173400@helmuts-fahrrad-seiten.de
SUMMARY:RTF 7.Teuto-Panorama-Tour\, Bielefeld
DESCRIPTION:Der TSVE Bielefeld lädt zu seiner 7. Teuto-Panorama-Tour durch das Lipperland\, entlang des Teutoburger Waldes und über die Höhen des Naturparks Eggegebirge. Angeboten werden folgende Strecken:  I. 41 Km (Einsteigertour)\, II. 81 Km (Freizeittour)\, III. 122 Km (Fitnesstour) und IV. 156 Km (Leistungstour).
URL:https://helmuts-fahrrad-seiten.de/event/rtf-7-teuto-panorama-tour-bielefeld/
LOCATION:Radrennbahn Bielefeld\, Heeper Straße 301\, Bielefeld\, 33607
CATEGORIES:RTF,Straßenradsport
END:VEVENT
END:VCALENDAR