BEGIN:VCALENDAR
VERSION:2.0
PRODID:-//Helmuts-Fahrrad-Seiten.de - ECPv5.14.1//NONSGML v1.0//EN
CALSCALE:GREGORIAN
METHOD:PUBLISH
X-WR-CALNAME:Helmuts-Fahrrad-Seiten.de
X-ORIGINAL-URL:https://helmuts-fahrrad-seiten.de
X-WR-CALDESC:Veranstaltungen für Helmuts-Fahrrad-Seiten.de
BEGIN:VTIMEZONE
TZID:Europe/Berlin
BEGIN:DAYLIGHT
TZOFFSETFROM:+0100
TZOFFSETTO:+0200
TZNAME:CEST
DTSTART:20230326T010000
END:DAYLIGHT
BEGIN:STANDARD
TZOFFSETFROM:+0200
TZOFFSETTO:+0100
TZNAME:CET
DTSTART:20231029T010000
END:STANDARD
END:VTIMEZONE
BEGIN:VEVENT
DTSTART;TZID=Europe/Berlin:20230813T090000
DTEND;TZID=Europe/Berlin:20230813T110000
DTSTAMP:20260423T170641
CREATED:20230426T193724Z
LAST-MODIFIED:20230426T193724Z
UID:78333-1691917200-1691924400@helmuts-fahrrad-seiten.de
SUMMARY:RTF "31. Heidetour"\, Buchholz i.d.N.
DESCRIPTION:Die blauen-weißen Buchholzer laden ein zur 31. Heidetour über 50 km\, 80 km\, 120 km und 150 km.
URL:https://helmuts-fahrrad-seiten.de/event/rtf-31-heidetour-buchholz-i-d-n/
LOCATION:Sportzentrum Buchholz\, Holzweg 6\, Buchholz\, 21244
CATEGORIES:RTF,Straßenradsport
END:VEVENT
END:VCALENDAR