BEGIN:VCALENDAR
VERSION:2.0
PRODID:-//Helmuts-Fahrrad-Seiten.de - ECPv5.14.1//NONSGML v1.0//EN
CALSCALE:GREGORIAN
METHOD:PUBLISH
X-WR-CALNAME:Helmuts-Fahrrad-Seiten.de
X-ORIGINAL-URL:https://helmuts-fahrrad-seiten.de
X-WR-CALDESC:Veranstaltungen für Helmuts-Fahrrad-Seiten.de
BEGIN:VTIMEZONE
TZID:Europe/Berlin
BEGIN:DAYLIGHT
TZOFFSETFROM:+0100
TZOFFSETTO:+0200
TZNAME:CEST
DTSTART:20170326T010000
END:DAYLIGHT
BEGIN:STANDARD
TZOFFSETFROM:+0200
TZOFFSETTO:+0100
TZNAME:CET
DTSTART:20171029T010000
END:STANDARD
END:VTIMEZONE
BEGIN:VEVENT
DTSTART;TZID=Europe/Berlin:20170610T100000
DTEND;TZID=Europe/Berlin:20170610T180000
DTSTAMP:20260424T040453
CREATED:20170510T180837Z
LAST-MODIFIED:20170510T181055Z
UID:9648-1497088800-1497117600@helmuts-fahrrad-seiten.de
SUMMARY:Norwid Manufakturtage 2017\, Neuendorf b. Elmshorn
DESCRIPTION:Herzlich Willkommen zu den MANUFAKTURTAGEN 2017 am 10. und 11. Juni\nSeit 25 Jahren fertigen wir Räder für Velosophen. Aus diesem Anlass veranstalten wir am 10. und 11. Juni 2017 die MANUFAKTURTAGE.\nNatürlich in unserer kleinen und feinen Manufaktur\, denn hier\, wo vor 25 Jahren alles begann\, soll auch gefeiert werden. \nDas erwartet Sie\n\nDurchgehende Besichtigungsmöglichkeit unserer Fahrrad-Manufaktur – Einblicke in die Produktion\nRegelmäßige Führungen durch die Manufaktur mit Rudolf Pallesen – Wie ein Norwid-Rad entsteht\nInfostände unserer renomierten Zulieferer\nVortrag von Martin Moschek\, einem begeisterten Velosophen und Fahrradbloger – Lassen Sie sich für Ihre nächste Radtour inspirieren\nProbelöten – Haben Sie das Zeug zum Rahmenbauer?\nLaufradzentrierung zum Mitmachen – Stellen Sie Ihr Talent unter Beweis\nGeführte Radausfahrten\, ca. 30 – 40 km (Tourenräder) und ca. 70 – 80 km (Rennräder)\nAktionspreise auf alle Norwid-Bekleidungsstücke\nFür Speis und Trank ist gesorgt (zum Selbstkostenpreis)\n\nWir aktualisieren unser Programm fortlaufend. Bitte schauen Sie mal wieder vorbei\, um sich über evtl. Änderungen bzw. genaue Zeiten der Radausfahrten und Vorträge zu informieren. Vielen Dank. \nhttp://norwid.de/manufakturtage2017.php
URL:https://helmuts-fahrrad-seiten.de/event/norwid-manufakturtage-2017-neuendorf-b-elmshorn/
LOCATION:Norwid\, Bauerweg 40\, Neuendorf b. Elmshorn\, 25335\, Deutschland
CATEGORIES:Rennrad-Tour,Straßenradsport,Veranstaltungen
END:VEVENT
END:VCALENDAR