BEGIN:VCALENDAR
VERSION:2.0
PRODID:-//Helmuts-Fahrrad-Seiten.de - ECPv5.14.1//NONSGML v1.0//EN
CALSCALE:GREGORIAN
METHOD:PUBLISH
X-WR-CALNAME:Helmuts-Fahrrad-Seiten.de
X-ORIGINAL-URL:https://helmuts-fahrrad-seiten.de
X-WR-CALDESC:Veranstaltungen für Helmuts-Fahrrad-Seiten.de
BEGIN:VTIMEZONE
TZID:Europe/Berlin
BEGIN:DAYLIGHT
TZOFFSETFROM:+0100
TZOFFSETTO:+0200
TZNAME:CEST
DTSTART:20230326T010000
END:DAYLIGHT
BEGIN:STANDARD
TZOFFSETFROM:+0200
TZOFFSETTO:+0100
TZNAME:CET
DTSTART:20231029T010000
END:STANDARD
END:VTIMEZONE
BEGIN:VEVENT
DTSTART;TZID=Europe/Berlin:20230507T080000
DTEND;TZID=Europe/Berlin:20230507T080000
DTSTAMP:20260423T100118
CREATED:20230114T140120Z
LAST-MODIFIED:20230114T140120Z
UID:76135-1683446400-1683446400@helmuts-fahrrad-seiten.de
SUMMARY:Nordsee-Radmarathon\, Husum
DESCRIPTION:Der RSV lädt ein zum Radmarathon über 205 km.
URL:https://helmuts-fahrrad-seiten.de/event/nordsee-radmarathon-husum-5/
LOCATION:Ferdinand-Tönnies-Schule\, Flensburger Chaussee 32\, Husum\, 25813
CATEGORIES:Deutschland Cup,Nordcup,Radmarathon,Straßenradsport
END:VEVENT
END:VCALENDAR