BEGIN:VCALENDAR
VERSION:2.0
PRODID:-//Helmuts-Fahrrad-Seiten.de - ECPv5.14.1//NONSGML v1.0//EN
CALSCALE:GREGORIAN
METHOD:PUBLISH
X-WR-CALNAME:Helmuts-Fahrrad-Seiten.de
X-ORIGINAL-URL:https://helmuts-fahrrad-seiten.de
X-WR-CALDESC:Veranstaltungen für Helmuts-Fahrrad-Seiten.de
BEGIN:VTIMEZONE
TZID:Europe/Berlin
BEGIN:DAYLIGHT
TZOFFSETFROM:+0100
TZOFFSETTO:+0200
TZNAME:CEST
DTSTART:20230326T010000
END:DAYLIGHT
BEGIN:STANDARD
TZOFFSETFROM:+0200
TZOFFSETTO:+0100
TZNAME:CET
DTSTART:20231029T010000
END:STANDARD
END:VTIMEZONE
BEGIN:VEVENT
DTSTART;TZID=Europe/Berlin:20230625T073000
DTEND;TZID=Europe/Berlin:20230625T073000
DTSTAMP:20260423T095139
CREATED:20230221T180354Z
LAST-MODIFIED:20230221T180354Z
UID:78036-1687678200-1687678200@helmuts-fahrrad-seiten.de
SUMMARY:Marathon "Rund um die Schlei"\, Schleswig
DESCRIPTION:Der Marathon des RV Schleswig führt über 204 km „rund um die Schlei“.
URL:https://helmuts-fahrrad-seiten.de/event/marathon-rund-um-die-schlei-schleswig-2/
LOCATION:Sporthalle BBZ Schleswig\, Eisteich 9\, Schleswig\, 24837\, Deutschland
CATEGORIES:Nordcup,Radmarathon,Straßenradsport
END:VEVENT
END:VCALENDAR