BEGIN:VCALENDAR
VERSION:2.0
PRODID:-//Helmuts-Fahrrad-Seiten.de - ECPv5.14.1//NONSGML v1.0//EN
CALSCALE:GREGORIAN
METHOD:PUBLISH
X-WR-CALNAME:Helmuts-Fahrrad-Seiten.de
X-ORIGINAL-URL:https://helmuts-fahrrad-seiten.de
X-WR-CALDESC:Veranstaltungen für Helmuts-Fahrrad-Seiten.de
BEGIN:VTIMEZONE
TZID:Europe/Berlin
BEGIN:DAYLIGHT
TZOFFSETFROM:+0100
TZOFFSETTO:+0200
TZNAME:CEST
DTSTART:20230326T010000
END:DAYLIGHT
BEGIN:STANDARD
TZOFFSETFROM:+0200
TZOFFSETTO:+0100
TZNAME:CET
DTSTART:20231029T010000
END:STANDARD
END:VTIMEZONE
BEGIN:VEVENT
DTSTART;TZID=Europe/Berlin:20230618T070000
DTEND;TZID=Europe/Berlin:20230618T090000
DTSTAMP:20260423T100917
CREATED:20230222T114648Z
LAST-MODIFIED:20230222T114648Z
UID:78045-1687071600-1687078800@helmuts-fahrrad-seiten.de
SUMMARY:Marathon "Rund in Stormarn"\, Hamburg-Farmsen
DESCRIPTION:Der Marathon des RG Hamburg führt „rund in Stormarn“ über 220 km.
URL:https://helmuts-fahrrad-seiten.de/event/marathon-rund-in-stormarn-hamburg-farmsen/
LOCATION:BMX Race\, Neusurenland 66\, Hamburg\, 22159
CATEGORIES:Nordcup,Radmarathon,Straßenradsport
END:VEVENT
END:VCALENDAR