BEGIN:VCALENDAR
VERSION:2.0
PRODID:-//Helmuts-Fahrrad-Seiten.de - ECPv5.14.1//NONSGML v1.0//EN
CALSCALE:GREGORIAN
METHOD:PUBLISH
X-WR-CALNAME:Helmuts-Fahrrad-Seiten.de
X-ORIGINAL-URL:https://helmuts-fahrrad-seiten.de
X-WR-CALDESC:Veranstaltungen für Helmuts-Fahrrad-Seiten.de
BEGIN:VTIMEZONE
TZID:Europe/Berlin
BEGIN:DAYLIGHT
TZOFFSETFROM:+0100
TZOFFSETTO:+0200
TZNAME:CEST
DTSTART:20220327T010000
END:DAYLIGHT
BEGIN:STANDARD
TZOFFSETFROM:+0200
TZOFFSETTO:+0100
TZNAME:CET
DTSTART:20221030T010000
END:STANDARD
END:VTIMEZONE
BEGIN:VEVENT
DTSTART;TZID=Europe/Berlin:20220814T073000
DTEND;TZID=Europe/Berlin:20220814T073000
DTSTAMP:20260423T071132
CREATED:20220220T180720Z
LAST-MODIFIED:20220220T180720Z
UID:67598-1660462200-1660462200@helmuts-fahrrad-seiten.de
SUMMARY:Marathon "Kanalfahrt"\, Rendsburg
DESCRIPTION:Der Marathon des RBC Rendsburg führt über 215 km.
URL:https://helmuts-fahrrad-seiten.de/event/marathon-kanalfahrt-rendsburg-3/
LOCATION:Christian-Timm-Regionalschule\, Klaus-Groth-Straße 2\, Rendsburg\, 24768
CATEGORIES:Nordcup,Radmarathon,Straßenradsport
END:VEVENT
END:VCALENDAR