BEGIN:VCALENDAR
VERSION:2.0
PRODID:-//Helmuts-Fahrrad-Seiten.de - ECPv5.14.1//NONSGML v1.0//EN
CALSCALE:GREGORIAN
METHOD:PUBLISH
X-WR-CALNAME:Helmuts-Fahrrad-Seiten.de
X-ORIGINAL-URL:https://helmuts-fahrrad-seiten.de
X-WR-CALDESC:Veranstaltungen für Helmuts-Fahrrad-Seiten.de
BEGIN:VTIMEZONE
TZID:UTC
BEGIN:STANDARD
TZOFFSETFROM:+0000
TZOFFSETTO:+0000
TZNAME:UTC
DTSTART:20220101T000000
END:STANDARD
END:VTIMEZONE
BEGIN:VEVENT
DTSTART;TZID=UTC:20220612T080000
DTEND;TZID=UTC:20220612T090000
DTSTAMP:20260423T115023
CREATED:20220522T133447Z
LAST-MODIFIED:20220522T133447Z
UID:68351-1655020800-1655024400@helmuts-fahrrad-seiten.de
SUMMARY:"Heide-Marathon"\, Isernhagen
DESCRIPTION:Der RTC Altwarmbüchen lädt ein zum Heide-Marathon über 214 km.
URL:https://helmuts-fahrrad-seiten.de/event/heide-marathon-isernhagen/
LOCATION:Schulzentrum Helleweg\, Helleweg 1\, Isernhagen\, 30916
CATEGORIES:Deutschland Cup,Radmarathon,Straßenradsport
END:VEVENT
END:VCALENDAR