BEGIN:VCALENDAR
VERSION:2.0
PRODID:-//Helmuts-Fahrrad-Seiten.de - ECPv5.14.1//NONSGML v1.0//EN
CALSCALE:GREGORIAN
METHOD:PUBLISH
X-WR-CALNAME:Helmuts-Fahrrad-Seiten.de
X-ORIGINAL-URL:https://helmuts-fahrrad-seiten.de
X-WR-CALDESC:Veranstaltungen für Helmuts-Fahrrad-Seiten.de
BEGIN:VTIMEZONE
TZID:Europe/Berlin
BEGIN:DAYLIGHT
TZOFFSETFROM:+0100
TZOFFSETTO:+0200
TZNAME:CEST
DTSTART:20240331T010000
END:DAYLIGHT
BEGIN:STANDARD
TZOFFSETFROM:+0200
TZOFFSETTO:+0100
TZNAME:CET
DTSTART:20241027T010000
END:STANDARD
END:VTIMEZONE
BEGIN:VEVENT
DTSTART;TZID=Europe/Berlin:20240825T090000
DTEND;TZID=Europe/Berlin:20240825T170000
DTSTAMP:20260423T103101
CREATED:20240807T125449Z
LAST-MODIFIED:20240807T125449Z
UID:93811-1724576400-1724605200@helmuts-fahrrad-seiten.de
SUMMARY:Festival Rad am Gutenbergring\, Norderstedt
DESCRIPTION:Wieder dreht sich in Norderstedt an diesem Tag alles um´s Fahrrad: von Bambini-Rennen bis Masters 4 ist alles im Programm. Anmeldungen über myraceresult.
URL:https://helmuts-fahrrad-seiten.de/event/festival-rad-am-gutenbergring-norderstedt-8/
LOCATION:Gutenbergring\, Norderstedt\, Gutenbergring\, Norderstedt\, 22848
CATEGORIES:Rennrad-Rennen,Straßenradsport
END:VEVENT
END:VCALENDAR