BEGIN:VCALENDAR
VERSION:2.0
PRODID:-//Helmuts-Fahrrad-Seiten.de - ECPv5.14.1//NONSGML v1.0//EN
CALSCALE:GREGORIAN
METHOD:PUBLISH
X-WR-CALNAME:Helmuts-Fahrrad-Seiten.de
X-ORIGINAL-URL:https://helmuts-fahrrad-seiten.de
X-WR-CALDESC:Veranstaltungen für Helmuts-Fahrrad-Seiten.de
BEGIN:VTIMEZONE
TZID:Europe/Berlin
BEGIN:DAYLIGHT
TZOFFSETFROM:+0100
TZOFFSETTO:+0200
TZNAME:CEST
DTSTART:20230326T010000
END:DAYLIGHT
BEGIN:STANDARD
TZOFFSETFROM:+0200
TZOFFSETTO:+0100
TZNAME:CET
DTSTART:20231029T010000
END:STANDARD
END:VTIMEZONE
BEGIN:VEVENT
DTSTART;VALUE=DATE:20230518
DTEND;VALUE=DATE:20230522
DTSTAMP:20260423T190048
CREATED:20230221T171710Z
LAST-MODIFIED:20230221T171710Z
UID:78014-1684368000-1684713599@helmuts-fahrrad-seiten.de
SUMMARY:Etappenfahrt "4 Tage zu Himmelfahrt"\, Hamburg/Wittenberge
DESCRIPTION:Der Audax-Club S-H lädt ein zur Etappenfahrt „4 Tage zu Himmelfahrt“. Es geht in vier Tagen von Hamburg nach Wittenberge\, rund um Wittenberge und wieder zurück nach Hamburg. Die Strecken sind je ca. 150 km bis 180 km lang.
URL:https://helmuts-fahrrad-seiten.de/event/etappenfahrt-4-tage-zu-himmelfahrt-hamburg-wittenberge/
CATEGORIES:Brevet,Straßenradsport
END:VEVENT
END:VCALENDAR