BEGIN:VCALENDAR
VERSION:2.0
PRODID:-//Helmuts-Fahrrad-Seiten.de - ECPv5.14.1//NONSGML v1.0//EN
CALSCALE:GREGORIAN
METHOD:PUBLISH
X-WR-CALNAME:Helmuts-Fahrrad-Seiten.de
X-ORIGINAL-URL:https://helmuts-fahrrad-seiten.de
X-WR-CALDESC:Veranstaltungen für Helmuts-Fahrrad-Seiten.de
BEGIN:VTIMEZONE
TZID:Europe/Berlin
BEGIN:DAYLIGHT
TZOFFSETFROM:+0100
TZOFFSETTO:+0200
TZNAME:CEST
DTSTART:20240331T010000
END:DAYLIGHT
BEGIN:STANDARD
TZOFFSETFROM:+0200
TZOFFSETTO:+0100
TZNAME:CET
DTSTART:20241027T010000
END:STANDARD
END:VTIMEZONE
BEGIN:VEVENT
DTSTART;TZID=Europe/Berlin:20240512T093000
DTEND;TZID=Europe/Berlin:20240512T173000
DTSTAMP:20260423T134230
CREATED:20240415T143017Z
LAST-MODIFIED:20240415T143017Z
UID:90675-1715506200-1715535000@helmuts-fahrrad-seiten.de
SUMMARY:Elektroland24 S-Cup\, Kaltenkirchen
DESCRIPTION:Das 4. Rennen des S-Cups findet auf dem Dodenhof-Gelände in Kaltenkirchen statt.
URL:https://helmuts-fahrrad-seiten.de/event/elektroland24-s-cup-kaltenkirchen/
LOCATION:Dodenhof Kaltenkirchen\, Auf dem Berge 1\, Kaltenkirchen\, 24568
CATEGORIES:Rennrad-Rennen,Straßenradsport
END:VEVENT
END:VCALENDAR