BEGIN:VCALENDAR
VERSION:2.0
PRODID:-//Helmuts-Fahrrad-Seiten.de - ECPv5.14.1//NONSGML v1.0//EN
CALSCALE:GREGORIAN
METHOD:PUBLISH
X-WR-CALNAME:Helmuts-Fahrrad-Seiten.de
X-ORIGINAL-URL:https://helmuts-fahrrad-seiten.de
X-WR-CALDESC:Veranstaltungen für Helmuts-Fahrrad-Seiten.de
BEGIN:VTIMEZONE
TZID:Europe/Berlin
BEGIN:DAYLIGHT
TZOFFSETFROM:+0100
TZOFFSETTO:+0200
TZNAME:CEST
DTSTART:20240331T010000
END:DAYLIGHT
BEGIN:STANDARD
TZOFFSETFROM:+0200
TZOFFSETTO:+0100
TZNAME:CET
DTSTART:20241027T010000
END:STANDARD
END:VTIMEZONE
BEGIN:VEVENT
DTSTART;TZID=Europe/Berlin:20240525T060000
DTEND;TZID=Europe/Berlin:20240525T060000
DTSTAMP:20260423T164936
CREATED:20240202T162247Z
LAST-MODIFIED:20240202T162247Z
UID:89474-1716616800-1716616800@helmuts-fahrrad-seiten.de
SUMMARY:Brevet CIRQUIT 333\, Nortorf
DESCRIPTION:Der Brevet CIRQUIT 333 der RSG Mittelpunkt Nortorf führt über 333 km einmal rund um den Kreis Rendsburg-Eckernförde.
URL:https://helmuts-fahrrad-seiten.de/event/brevet-cirquit-333-nortorf-4/
LOCATION:Gemeinschaftsschule Nortorf\, Marienburger Str. 47\, Nortorf\, 24589
CATEGORIES:Brevet,Straßenradsport
END:VEVENT
END:VCALENDAR