BEGIN:VCALENDAR
VERSION:2.0
PRODID:-//Helmuts-Fahrrad-Seiten.de - ECPv5.14.1//NONSGML v1.0//EN
CALSCALE:GREGORIAN
METHOD:PUBLISH
X-WR-CALNAME:Helmuts-Fahrrad-Seiten.de
X-ORIGINAL-URL:https://helmuts-fahrrad-seiten.de
X-WR-CALDESC:Veranstaltungen für Helmuts-Fahrrad-Seiten.de
BEGIN:VTIMEZONE
TZID:Europe/Berlin
BEGIN:DAYLIGHT
TZOFFSETFROM:+0100
TZOFFSETTO:+0200
TZNAME:CEST
DTSTART:20230326T010000
END:DAYLIGHT
BEGIN:STANDARD
TZOFFSETFROM:+0200
TZOFFSETTO:+0100
TZNAME:CET
DTSTART:20231029T010000
END:STANDARD
END:VTIMEZONE
BEGIN:VEVENT
DTSTART;TZID=Europe/Berlin:20230802T163000
DTEND;TZID=Europe/Berlin:20230802T203000
DTSTAMP:20260423T134052
CREATED:20230430T182816Z
LAST-MODIFIED:20230430T182816Z
UID:78381-1690993800-1691008200@helmuts-fahrrad-seiten.de
SUMMARY:Bahn-Pokal 2023\, Hamburg-Stellingen
DESCRIPTION:Jeden ersten Mittwoch im Monat von Mai bis September richtet der FC St. Pauli Radsport eine kleine\, aber feine Rennserie aus. Gefahren werden je Rennklasse zwei Disziplinen aus den üblichen Kategorien wie z. B. Scratch\, Verfolgung oder Zeitfahren. Die Disziplinen werden am Renntag bekannt gegeben.
URL:https://helmuts-fahrrad-seiten.de/event/bahn-pokal-2023-hamburg-stellingen-4/
LOCATION:Radrennbahn Hamburg\, Hagenbeckstr.  124\, Hamburg\, 22527
CATEGORIES:Bahn
END:VEVENT
END:VCALENDAR