BEGIN:VCALENDAR
VERSION:2.0
PRODID:-//Helmuts-Fahrrad-Seiten.de - ECPv5.14.1//NONSGML v1.0//EN
CALSCALE:GREGORIAN
METHOD:PUBLISH
X-WR-CALNAME:Helmuts-Fahrrad-Seiten.de
X-ORIGINAL-URL:https://helmuts-fahrrad-seiten.de
X-WR-CALDESC:Veranstaltungen für Helmuts-Fahrrad-Seiten.de
BEGIN:VTIMEZONE
TZID:UTC
BEGIN:STANDARD
TZOFFSETFROM:+0000
TZOFFSETTO:+0000
TZNAME:UTC
DTSTART:20220101T000000
END:STANDARD
END:VTIMEZONE
BEGIN:VEVENT
DTSTART;TZID=UTC:20220731T080000
DTEND;TZID=UTC:20220731T100000
DTSTAMP:20260423T132138
CREATED:20220522T155705Z
LAST-MODIFIED:20220522T155705Z
UID:68386-1659254400-1659261600@helmuts-fahrrad-seiten.de
SUMMARY:"Bad Rothenfelder Bäder"-RTF\, Bad Rothenfelde
DESCRIPTION:Der RV Teutonia Aschendorf lädt ein zur „Bad Rothenfelder Bäder-RTF“ über 45 km\, 75 km\, 112 km und 152 km.
URL:https://helmuts-fahrrad-seiten.de/event/bad-rothenfelder-baeder-rtf-bad-rothenfelde-4/
LOCATION:Heristo Sportpark an den Salinen\, Wiekstraße\, Bad Rothenfelde\, 49214
CATEGORIES:RTF,Straßenradsport
END:VEVENT
END:VCALENDAR