BEGIN:VCALENDAR
VERSION:2.0
PRODID:-//Helmuts-Fahrrad-Seiten.de - ECPv5.14.1//NONSGML v1.0//EN
CALSCALE:GREGORIAN
METHOD:PUBLISH
X-WR-CALNAME:Helmuts-Fahrrad-Seiten.de
X-ORIGINAL-URL:https://helmuts-fahrrad-seiten.de
X-WR-CALDESC:Veranstaltungen für Helmuts-Fahrrad-Seiten.de
BEGIN:VTIMEZONE
TZID:Europe/Berlin
BEGIN:DAYLIGHT
TZOFFSETFROM:+0100
TZOFFSETTO:+0200
TZNAME:CEST
DTSTART:20220327T010000
END:DAYLIGHT
BEGIN:STANDARD
TZOFFSETFROM:+0200
TZOFFSETTO:+0100
TZNAME:CET
DTSTART:20221030T010000
END:STANDARD
END:VTIMEZONE
BEGIN:VEVENT
DTSTART;TZID=Europe/Berlin:20220723T080000
DTEND;TZID=Europe/Berlin:20220723T080000
DTSTAMP:20260423T184228
CREATED:20220220T154151Z
LAST-MODIFIED:20220220T154151Z
UID:67566-1658563200-1658563200@helmuts-fahrrad-seiten.de
SUMMARY:9. RST Lübeck-(Mini-)Brevet\, Groß Grönau
DESCRIPTION:Der diesjährige Brevet des RST Lübeck führt über 212 km zum Bundesradsporttreffen nach Schwerin. Außerdem gibt es einen Mini-Brevet über 112 km.
URL:https://helmuts-fahrrad-seiten.de/event/9-rst-luebeck-mini-brevet-gross-groenau/
LOCATION:Grönau Forum\, Am Torfmoor 8\, Groß Grönau\, 23627
CATEGORIES:Brevet,Bundes-Radsporttreffen,Straßenradsport
END:VEVENT
END:VCALENDAR