BEGIN:VCALENDAR
VERSION:2.0
PRODID:-//Helmuts-Fahrrad-Seiten.de - ECPv5.14.1//NONSGML v1.0//EN
CALSCALE:GREGORIAN
METHOD:PUBLISH
X-WR-CALNAME:Helmuts-Fahrrad-Seiten.de
X-ORIGINAL-URL:https://helmuts-fahrrad-seiten.de
X-WR-CALDESC:Veranstaltungen für Helmuts-Fahrrad-Seiten.de
BEGIN:VTIMEZONE
TZID:Europe/Berlin
BEGIN:DAYLIGHT
TZOFFSETFROM:+0100
TZOFFSETTO:+0200
TZNAME:CEST
DTSTART:20170326T010000
END:DAYLIGHT
BEGIN:STANDARD
TZOFFSETFROM:+0200
TZOFFSETTO:+0100
TZNAME:CET
DTSTART:20171029T010000
END:STANDARD
END:VTIMEZONE
BEGIN:VEVENT
DTSTART;TZID=Europe/Berlin:20170611T080000
DTEND;TZID=Europe/Berlin:20170611T170000
DTSTAMP:20260424T030006
CREATED:20170518T085822Z
LAST-MODIFIED:20170518T085822Z
UID:10089-1497168000-1497200400@helmuts-fahrrad-seiten.de
SUMMARY:7-Türme-Triathlon\, Lübeck
DESCRIPTION:Der Tri-Sport Lübeck e.V. lädt ein zum 7-Türme-Triathlon. Angeboten werden die Mitteldistanz (2 km Schwimmen\, 80 km Radfahren\, 20 km Laufen)\, die olympische Distanz (1\,5 km Schwimmen\, 40 km Radfahren\, 10 km Laufen) und ein Volkstriathlon (0\,5 km Schwimmen\, 20 km Radfahren\, 5 km Laufen) – auch als Staffelwettbewerb.
URL:https://helmuts-fahrrad-seiten.de/event/7-tuerme-triathlon-luebeck/
LOCATION:VHS Lübeck\, Falkenplatz 10\, Lübeck\, 23564
CATEGORIES:Multisport,Triathlon
END:VEVENT
END:VCALENDAR