BEGIN:VCALENDAR
VERSION:2.0
PRODID:-//Helmuts-Fahrrad-Seiten.de - ECPv5.14.1//NONSGML v1.0//EN
CALSCALE:GREGORIAN
METHOD:PUBLISH
X-WR-CALNAME:Helmuts-Fahrrad-Seiten.de
X-ORIGINAL-URL:https://helmuts-fahrrad-seiten.de
X-WR-CALDESC:Veranstaltungen für Helmuts-Fahrrad-Seiten.de
BEGIN:VTIMEZONE
TZID:Europe/Berlin
BEGIN:DAYLIGHT
TZOFFSETFROM:+0100
TZOFFSETTO:+0200
TZNAME:CEST
DTSTART:20230326T010000
END:DAYLIGHT
BEGIN:STANDARD
TZOFFSETFROM:+0200
TZOFFSETTO:+0100
TZNAME:CET
DTSTART:20231029T010000
END:STANDARD
END:VTIMEZONE
BEGIN:VEVENT
DTSTART;TZID=Europe/Berlin:20230518T090000
DTEND;TZID=Europe/Berlin:20230518T153000
DTSTAMP:20260423T153106
CREATED:20230426T193224Z
LAST-MODIFIED:20230426T193224Z
UID:78331-1684400400-1684423800@helmuts-fahrrad-seiten.de
SUMMARY:31. Internationaler Großer Preis von Buchholz\, Buchholz i.d.N.
DESCRIPTION:Beim sog. Klassiker des Nordens\, dem 31. Internationalen Großen Preis von Buchholz geht es rund um die Bremer Straße in Buchholz i.d.N. auf einem anspruchsvollen Rundkurs mit einigen Höhenmetern.
URL:https://helmuts-fahrrad-seiten.de/event/31-internationaler-grosser-preis-von-buchholz-buchholz-i-d-n/
LOCATION:Buchholz\, Bremer Straße\, Bremer Straße\, Buchholz i.d.N.\, 21244
CATEGORIES:Rennrad-Rennen,Straßenradsport
END:VEVENT
END:VCALENDAR