BEGIN:VCALENDAR
VERSION:2.0
PRODID:-//Helmuts-Fahrrad-Seiten.de - ECPv5.14.1//NONSGML v1.0//EN
CALSCALE:GREGORIAN
METHOD:PUBLISH
X-WR-CALNAME:Helmuts-Fahrrad-Seiten.de
X-ORIGINAL-URL:https://helmuts-fahrrad-seiten.de
X-WR-CALDESC:Veranstaltungen für Helmuts-Fahrrad-Seiten.de
BEGIN:VTIMEZONE
TZID:Europe/Berlin
BEGIN:DAYLIGHT
TZOFFSETFROM:+0100
TZOFFSETTO:+0200
TZNAME:CEST
DTSTART:20170326T010000
END:DAYLIGHT
BEGIN:STANDARD
TZOFFSETFROM:+0200
TZOFFSETTO:+0100
TZNAME:CET
DTSTART:20171029T010000
END:STANDARD
END:VTIMEZONE
BEGIN:VEVENT
DTSTART;TZID=Europe/Berlin:20170611T080000
DTEND;TZID=Europe/Berlin:20170611T090000
DTSTAMP:20260424T071111
CREATED:20170127T104108Z
LAST-MODIFIED:20170127T104108Z
UID:8292-1497168000-1497171600@helmuts-fahrrad-seiten.de
SUMMARY:29. RTF "Quer durch´s Hachetal"\, Syke
DESCRIPTION:Der TSV Barrien lädt zu seiner RTF „Quer durch´s Hachetal“ ein. Angeboten werden Strecken über 45 km\, 75 km und 113 km.
URL:https://helmuts-fahrrad-seiten.de/event/29-rtf-quer-durchs-hachetal-syke/
LOCATION:Sport- und Bewegungszentrum\, An der Wassermühle 10\, Syke-Barrien\, 28857
CATEGORIES:RTF,Straßenradsport
END:VEVENT
END:VCALENDAR