BEGIN:VCALENDAR
VERSION:2.0
PRODID:-//Helmuts-Fahrrad-Seiten.de - ECPv5.14.1//NONSGML v1.0//EN
CALSCALE:GREGORIAN
METHOD:PUBLISH
X-WR-CALNAME:Helmuts-Fahrrad-Seiten.de
X-ORIGINAL-URL:https://helmuts-fahrrad-seiten.de
X-WR-CALDESC:Veranstaltungen für Helmuts-Fahrrad-Seiten.de
BEGIN:VTIMEZONE
TZID:Europe/Berlin
BEGIN:DAYLIGHT
TZOFFSETFROM:+0100
TZOFFSETTO:+0200
TZNAME:CEST
DTSTART:20200329T010000
END:DAYLIGHT
BEGIN:STANDARD
TZOFFSETFROM:+0200
TZOFFSETTO:+0100
TZNAME:CET
DTSTART:20201025T010000
END:STANDARD
END:VTIMEZONE
BEGIN:VEVENT
DTSTART;TZID=Europe/Berlin:20200809T090000
DTEND;TZID=Europe/Berlin:20200809T090000
DTSTAMP:20260424T000101
CREATED:20200101T190530Z
LAST-MODIFIED:20200801T173124Z
UID:55980-1596963600-1596963600@helmuts-fahrrad-seiten.de
SUMMARY:29. Ostholstein-Rundfahrt\, Bad Schwartau\, GEÄNDERT
DESCRIPTION:Das RST Lübeck lädt ein zur RTF „Ostholstein-Rundfahrt“. Auf dem Programm stehen die Hobbytour (56 km)\, die Fitnesstour (Kleine Rundfahrt\, 88 km)\, die Sporttour (Mittlere Rundfahrt\, 120 km) und die Profitour (Große Rundfahrt\, 158 km). \nDie RTF kann bis 23.8.2020 alleine abgefahren werden. https://www.rst-luebeck.de/drupal/content/29ostholstein-rundfahrt-2020-6wagriener-land-o-rtf
URL:https://helmuts-fahrrad-seiten.de/event/29-ostholstein-rundfahrt-bad-schwartau/
LOCATION:Rudolf-Harbig-Halle\, Ludwig-Jahn-Straße\, Bad Schwartau\, 23611
CATEGORIES:RTF,Straßenradsport
END:VEVENT
END:VCALENDAR