BEGIN:VCALENDAR
VERSION:2.0
PRODID:-//Helmuts-Fahrrad-Seiten.de - ECPv5.14.1//NONSGML v1.0//EN
CALSCALE:GREGORIAN
METHOD:PUBLISH
X-WR-CALNAME:Helmuts-Fahrrad-Seiten.de
X-ORIGINAL-URL:https://helmuts-fahrrad-seiten.de
X-WR-CALDESC:Veranstaltungen für Helmuts-Fahrrad-Seiten.de
BEGIN:VTIMEZONE
TZID:UTC
BEGIN:STANDARD
TZOFFSETFROM:+0000
TZOFFSETTO:+0000
TZNAME:UTC
DTSTART:20220101T000000
END:STANDARD
END:VTIMEZONE
BEGIN:VEVENT
DTSTART;TZID=UTC:20220814T090000
DTEND;TZID=UTC:20220814T100000
DTSTAMP:20260423T123158
CREATED:20220522T161326Z
LAST-MODIFIED:20220522T161326Z
UID:68396-1660467600-1660471200@helmuts-fahrrad-seiten.de
SUMMARY:29. "Buchholzer Heidetour"\, Buchholz i.d.N.
DESCRIPTION:Eine Woche vor den Cyclassics kann ein letzter Formtest bei der Buchholzer Heidetour durchgeführt werden. Angeboten werden Strecken über 45 km\, 75 km\, 115 km und 151 km.
URL:https://helmuts-fahrrad-seiten.de/event/29-buchholzer-heidetour-buchholz-i-d-n/
LOCATION:Sportzentrum Buchholz\, Holzweg 6\, Buchholz\, 21244
CATEGORIES:RTF,Straßenradsport
END:VEVENT
END:VCALENDAR