BEGIN:VCALENDAR
VERSION:2.0
PRODID:-//Helmuts-Fahrrad-Seiten.de - ECPv5.14.1//NONSGML v1.0//EN
CALSCALE:GREGORIAN
METHOD:PUBLISH
X-WR-CALNAME:Helmuts-Fahrrad-Seiten.de
X-ORIGINAL-URL:https://helmuts-fahrrad-seiten.de
X-WR-CALDESC:Veranstaltungen für Helmuts-Fahrrad-Seiten.de
BEGIN:VTIMEZONE
TZID:UTC
BEGIN:STANDARD
TZOFFSETFROM:+0000
TZOFFSETTO:+0000
TZNAME:UTC
DTSTART:20220101T000000
END:STANDARD
END:VTIMEZONE
BEGIN:VEVENT
DTSTART;TZID=UTC:20220626T073000
DTEND;TZID=UTC:20220626T073000
DTSTAMP:20260423T033816
CREATED:20220410T091438Z
LAST-MODIFIED:20220410T091438Z
UID:68017-1656228600-1656228600@helmuts-fahrrad-seiten.de
SUMMARY:25. Marathon "Rund um die Schlei"\, Schleswig
DESCRIPTION:Der RV Schleswig lädt ein zu seinem Marathon „Rund um die Schlei“ über 204 km.
URL:https://helmuts-fahrrad-seiten.de/event/25-marathon-rund-um-die-schlei-schleswig/
LOCATION:Sporthalle BBZ Schleswig\, Eisteich 9\, Schleswig\, 24837\, Deutschland
END:VEVENT
END:VCALENDAR