BEGIN:VCALENDAR
VERSION:2.0
PRODID:-//Helmuts-Fahrrad-Seiten.de - ECPv5.14.1//NONSGML v1.0//EN
CALSCALE:GREGORIAN
METHOD:PUBLISH
X-WR-CALNAME:Helmuts-Fahrrad-Seiten.de
X-ORIGINAL-URL:https://helmuts-fahrrad-seiten.de
X-WR-CALDESC:Veranstaltungen für Helmuts-Fahrrad-Seiten.de
BEGIN:VTIMEZONE
TZID:Europe/Berlin
BEGIN:DAYLIGHT
TZOFFSETFROM:+0100
TZOFFSETTO:+0200
TZNAME:CEST
DTSTART:20200329T010000
END:DAYLIGHT
BEGIN:STANDARD
TZOFFSETFROM:+0200
TZOFFSETTO:+0100
TZNAME:CET
DTSTART:20201025T010000
END:STANDARD
END:VTIMEZONE
BEGIN:VEVENT
DTSTART;TZID=Europe/Berlin:20200726T090000
DTEND;TZID=Europe/Berlin:20200726T100000
DTSTAMP:20260423T170907
CREATED:20200225T204003Z
LAST-MODIFIED:20200615T193021Z
UID:57478-1595754000-1595757600@helmuts-fahrrad-seiten.de
SUMMARY:16. Alma Mater (O-)RTF\, Hamburg-Harburg\, ABGESAGT
DESCRIPTION:Bei der RTF „Alma Mater“ der RG Uni Hamburg wird nicht mehr nach Ausschilderung\, sondern nach Track gefahren. Im Angebot sind Strecken über  50 km\, 84 km\, 120 km und 150  km.
URL:https://helmuts-fahrrad-seiten.de/event/16-alma-mater-o-rtf-hamburg-harburg/
LOCATION:TU Hamburg-Harburg\, Denickestr. 22\, Hamburg\, 21073
CATEGORIES:RTF,Straßenradsport
END:VEVENT
END:VCALENDAR