BEGIN:VCALENDAR
VERSION:2.0
PRODID:-//Helmuts-Fahrrad-Seiten.de - ECPv5.14.1//NONSGML v1.0//EN
CALSCALE:GREGORIAN
METHOD:PUBLISH
X-WR-CALNAME:Helmuts-Fahrrad-Seiten.de
X-ORIGINAL-URL:https://helmuts-fahrrad-seiten.de
X-WR-CALDESC:Veranstaltungen für Helmuts-Fahrrad-Seiten.de
BEGIN:VTIMEZONE
TZID:Europe/Berlin
BEGIN:DAYLIGHT
TZOFFSETFROM:+0100
TZOFFSETTO:+0200
TZNAME:CEST
DTSTART:20240331T010000
END:DAYLIGHT
BEGIN:STANDARD
TZOFFSETFROM:+0200
TZOFFSETTO:+0100
TZNAME:CET
DTSTART:20241027T010000
END:STANDARD
END:VTIMEZONE
BEGIN:VEVENT
DTSTART;TZID=Europe/Berlin:20240504T090000
DTEND;TZID=Europe/Berlin:20240504T110000
DTSTAMP:20260423T165431
CREATED:20240415T123035Z
LAST-MODIFIED:20240415T123035Z
UID:90615-1714813200-1714820400@helmuts-fahrrad-seiten.de
SUMMARY:1. RTF "HellRide"\, Osnabrück
DESCRIPTION:Aus Anlaß des 100. Vereinsjubiläums lädt der SV Hellern zum 1. HellRide ein. Im Angebot sind 40 km (320 Hm)\, 92 km (740 Hm)\, 119 km (1.120 Hm) und 167 km (1.570 Hm).
URL:https://helmuts-fahrrad-seiten.de/event/1-rtf-hellride-osnabrueck/
LOCATION:Sportanlage SV Hellern\, Klaus-Stürmer-Str. 2\, Osnabrück\, 49078
CATEGORIES:RTF,Straßenradsport
END:VEVENT
END:VCALENDAR